BEGIN:VCALENDAR
VERSION:2.0
PRODID:-//Glad Tidings Worship Center - ECPv6.7.0//NONSGML v1.0//EN
CALSCALE:GREGORIAN
METHOD:PUBLISH
X-WR-CALNAME:Glad Tidings Worship Center
X-ORIGINAL-URL:https://gladtidingsworshipcenter.ca
X-WR-CALDESC:Events for Glad Tidings Worship Center
REFRESH-INTERVAL;VALUE=DURATION:PT1H
X-Robots-Tag:noindex
X-PUBLISHED-TTL:PT1H
BEGIN:VTIMEZONE
TZID:UTC
BEGIN:STANDARD
TZOFFSETFROM:+0000
TZOFFSETTO:+0000
TZNAME:UTC
DTSTART:20240101T000000
END:STANDARD
END:VTIMEZONE
BEGIN:VEVENT
DTSTART;TZID=UTC:20240503T180000
DTEND;TZID=UTC:20240504T160000
DTSTAMP:20260425T152156
CREATED:20240214T082216Z
LAST-MODIFIED:20240223T034831Z
UID:1781-1714759200-1714838400@gladtidingsworshipcenter.ca
SUMMARY:Daughters Arise Women’s Conference
DESCRIPTION:  \n  \n\n \n\nDate:  May 3rd to May 4th\, 2024 \nDaughters Arise is back with another conference for the ladies in the Maritime area. This is going to be an incredible weekend of healing and empowerment in the presence of the Holy Spirit. \nWe are so excited to be hosting this event with Special Guest Speaker Tricia Gibb Lane. What an on-fire beautiful women of God this lady is. She has an amazing track record of bringing powerful messages to women throughout Canada and specific to PAOC Western Ontario District. Last fall Tricia spoke at the PAOC Maritime District Conference\, and it was a life-changing time in the presence of God. \nWe will also have our beautiful Joanna Savoie with us from Glad Tidings Moncton leading Worship for us both Friday evening and at both sessions on Saturday… \nYou don’t want to miss this impactful Spirit-filled weekend. \n  \n \n \n \n\n\nItinerary\nFriday May 3rd\, 2024\n\n\n\nPROGRAM\nTIME\n\n\nRegistration\, Refreshments Will Be Served\n6:00 PM\n\n\nEvening Session Will Begin\n7:00 PM\n\n\n\n\nSaturday May 4th\, 2024\n\n\n\nPROGRAM\nTIME\n\n\nMorning Registration (Breakfast Refreshments will be served)\n9:00 AM\n\n\nMorning Session will begin\n10:00 AM\n\n\nLunch will be served\n12:30 PM\n\n\nAfternoon Session will begin\n1:30 AM\n\n\nConference will be completed\n4:00 PM\n\n\n\n\nSunday May 5th\, 2024\n\n\n\nPROGRAM\nTIME\n\n\nSunday Morning Service Tricia Gibb Lane will be bringing the message…\n10:30 AM\n\n\n\n  \nCOST – Minimum $25 per person or best offering – Paid at registration – Cash or by etransfer at donations@gladtidingsworshipcenter.ca \nRooms have been blocked at the Super 8 Hotel in Windsor Nova Scotia for $139 per night.  You can contact the Hotel at 1-902-701-9898 \nhttps://www.wyndhamhotels.com/super-8/windsor-nova-scotia/super-8-windsor-ns/overview?CID=LC:yytq4fvvehxh7se:19441 \nReserve Your Seat Before April 15th to receive a Gift Bag. \n  \n\n\n  \n\n\n\n\n\n\n\n\nSelect day to attend\n—Please choose an option—FridaySaturdayBoth\nWould you like to be contacted for our future events?\nYesNo\n\n \n\n\n\n\n           Download QR
URL:http://gladtidingsworshipcenter.ca/event/daughters-arise-womens-conference/
CATEGORIES:Events
ATTACH;FMTTYPE=image/jpeg:https://gladtidingsworshipcenter.ca/wp-content/uploads/2024/02/DAWC_v6.jpg
END:VEVENT
END:VCALENDAR