BEGIN:VCALENDAR
VERSION:2.0
PRODID:-//Glad Tidings Worship Center - ECPv6.7.0//NONSGML v1.0//EN
CALSCALE:GREGORIAN
METHOD:PUBLISH
X-WR-CALNAME:Glad Tidings Worship Center
X-ORIGINAL-URL:https://gladtidingsworshipcenter.ca
X-WR-CALDESC:Events for Glad Tidings Worship Center
REFRESH-INTERVAL;VALUE=DURATION:PT1H
X-Robots-Tag:noindex
X-PUBLISHED-TTL:PT1H
BEGIN:VTIMEZONE
TZID:UTC
BEGIN:STANDARD
TZOFFSETFROM:+0000
TZOFFSETTO:+0000
TZNAME:UTC
DTSTART:20250101T000000
END:STANDARD
END:VTIMEZONE
BEGIN:VEVENT
DTSTART;TZID=UTC:20250502T080000
DTEND;TZID=UTC:20250503T080000
DTSTAMP:20260422T224304
CREATED:20250205T120224Z
LAST-MODIFIED:20260304T232103Z
UID:2002-1746172800-1746259200@gladtidingsworshipcenter.ca
SUMMARY:Daughters Arise Women's Conference
DESCRIPTION:  \n\nDear Daughters …. \nI was preparing for our 2026 Daughters Arise Conference having put our Speaker and Worship Team in place in late last summer . As fall came and I sought the Lord to give me our vision for 2026 at Glad Tidings and what our focus should be even for conference the words “Make Room for More of Me” kept sweeping through my heart and ears …. \nFirst\, I was confused as we just finished a year of Pressing in for More… how could that be different and yet it is…pressing in for more is a proactive\, often intense pursuit to draw closer to God (like the woman with the issue of blood)\, while making room is an intentional\, often passive act of surrender\, removing “clutter” (priorities\, sins\, distractions) to allow Jesus more space to dwell within and speak clearly to us that we may respond in obedience and yet just to sit as His feet and love Him more. This is when the Lord put two specific verses on my heart with two specific visions. \nFirst the Lord laid Rev. 3:20 upon my heart. “Behold\, I stand at the door and knock. If anyone hears My voice and opens the door\, I will come in to him and dine with him\, and he with Me.” Jesus is calling His Church\, His bride to an intimate time of repentance and letting go of everything that has hindered a deeper to know and be known by Him moment. He is drawing us near to new encounters and divine moments with Him. Second the scripture of Matthew 12: 43-48. This is when the Lord gave me a vision of the body of Christ sitting in rooms so cluttered that the Spirit would have to pour in between where room was available yet in an instant a window blew open and the room was made clean and the Lord filled the room in place of everything else… This was where I began to sense the Lord wanted even us as a church to lay everything down in 2026 so that we could focus on Him alone… It was here also that the Lord reminded me that as I come into year six at GT\, I will now enter my seventh year\, and this is where the land needs to rest especially as we come into our Jubilee Year in 2027. “The Lord said to Moses at Mount Sinai\, “Speak to the Israelites and say to them: ‘When you enter the land I am going to give you\, the land itself must observe a sabbath to the Lord. For six years sow your fields\, and for six years prune your vineyards and gather their crops. But in the seventh year the land is to have a year of sabbath rest\, a sabbath to the Lord. For the last six years we planted in prayer and events as the Lord led us to sow seed and pray that we would reap holy and great things in the name of Jesus.  Now over 2026 we are obeying the Lord to lay everything down and trust Him as He promised that “He will do much with our little”\, as we prepare for our Jubilee Year of Blessing – 50yrs in our current location and 85th year with the Pentecostal Assemblies of Canada. We are believing for great and powerful things that the Lord will do at Glad Tidings and for Nova Scotia as we wait upon the Lord to see His glory come in the land of the living (Jeremiah 33:3\, Psalm 27:14) We still stand on our scripture of Psalm 126 that with the tears that have been shed\, it will be like a dream and in an instant the Lord will bring a harvest and we as His Church across this province will rejoice bringing in the sheaves of the harvest He promised.. \nWE CAN’T WAIT TO CELEBRATE WITH YOU IN 2027! \nIn the meantime\, Dear Beautiful Sisters and Daughters of the King… Make Room for More… and pray with us for a mighty move of God in Nova Scotia and our Nation… \nTo Him who is able and God willing\, see you Next Year…. \nLove you all…. \n\n\n  \n  \n\n           Download QR
URL:http://gladtidingsworshipcenter.ca/event/daughters-arise-womens-conference/
CATEGORIES:Events
ATTACH;FMTTYPE=image/png:https://gladtidingsworshipcenter.ca/wp-content/uploads/2025/02/daughters-conference-2027.png
END:VEVENT
BEGIN:VEVENT
DTSTART;TZID=UTC:20250718T080000
DTEND;TZID=UTC:20250719T080000
DTSTAMP:20260422T224304
CREATED:20240926T130319Z
LAST-MODIFIED:20240926T130619Z
UID:1902-1752825600-1752912000@gladtidingsworshipcenter.ca
SUMMARY:24hrs of Prayer and Fasting
DESCRIPTION:Please join us as we pray for the next generation.\nWe are praying for a great harvest for our community of Hants County believing many will come to salvation. \n\n\n\n           Download QR
URL:http://gladtidingsworshipcenter.ca/event/24hrs-of-prayer-and-fasting-9/
CATEGORIES:Events
ATTACH;FMTTYPE=image/png:https://gladtidingsworshipcenter.ca/wp-content/uploads/2023/06/Fasting-and-prayer.png
END:VEVENT
BEGIN:VEVENT
DTSTART;TZID=UTC:20251017T080000
DTEND;TZID=UTC:20251018T080000
DTSTAMP:20260422T224304
CREATED:20240926T130415Z
LAST-MODIFIED:20240926T130522Z
UID:1904-1760688000-1760774400@gladtidingsworshipcenter.ca
SUMMARY:24hrs of Prayer and Fasting
DESCRIPTION:Please join us as we pray for the next generation.\nWe are praying for a great harvest for our community of Hants County believing many will come to salvation. \n\n\n\n           Download QR
URL:http://gladtidingsworshipcenter.ca/event/24hrs-of-prayer-and-fasting-10/
CATEGORIES:Events
ATTACH;FMTTYPE=image/png:https://gladtidingsworshipcenter.ca/wp-content/uploads/2023/06/Fasting-and-prayer.png
END:VEVENT
BEGIN:VEVENT
DTSTART;TZID=UTC:20251206T173000
DTEND;TZID=UTC:20251206T190000
DTSTAMP:20260422T224304
CREATED:20251031T092930Z
LAST-MODIFIED:20260112T120522Z
UID:2222-1765042200-1765047600@gladtidingsworshipcenter.ca
SUMMARY:Annual Christmas Party
DESCRIPTION:Community Christmas Party\nTHANK YOU FOR JOINING US AT OUR ANNUAL COMMUNITY CHRISTMAS PARTY. WHAT A BLESSING IT WAS TO SERVE YOU ALL AND SO GRATEFUL WE CAN HAVE THIS OPPORTUNITY TO CELEBRATE WITH SO MANY WHO USUALLY WOULD OTHERWISE CELEBRATE ALONE…\n\n \n\nTHIS YEAR WE HAD OVER 120 PEOPLE JOIN US AND LOOK FORWARD TO SERVING YOU AGAIN IN 2026. A DATE WILL BE FINALIZED CLOSER TO THE EVENT.\nGOD BLESS….\n\n           Download QR
URL:http://gladtidingsworshipcenter.ca/event/annual-christmas-party/
CATEGORIES:Events
END:VEVENT
BEGIN:VEVENT
DTSTART;TZID=UTC:20260112T080000
DTEND;TZID=UTC:20260201T080000
DTSTAMP:20260422T224304
CREATED:20260109T082055Z
LAST-MODIFIED:20260112T122744Z
UID:2281-1768204800-1769932800@gladtidingsworshipcenter.ca
SUMMARY:21 Days of Prayer And Fasting
DESCRIPTION:Our walk with Jesus requires us to surrender to Jesus. Fasting and prayer were part of Jesus’ life as He lived in His intimacy with Father. Fasting and prayer restores and strengthens intimacy and passion for God. It also helps us to hear from Him. Most importantly fasting and praying is a way for us to humble ourselves in the sight of God relinquishing our will and obeying His.(Psalm 35:13; Ezra 8:21). King David said\, “I humbled my soul with fasting” (Psalm 69:10).\n  \nAs we look to 2026 in Making Room for More\, let’s remember that this year\, the more we desire\, is Jesus. More intimacy with Him is everything. We invite Him in to get rid of all that is taking up space in our lives\, body\, mind soul and spirit so that we can lean in and let Him cleanse us\, heal us and occupy our lives making Him and the Kingdom our our priority and passion. This is so important as we come to serve Him and be used by Him to advance the Kingdom\, because the Kingdom is Christ and He is who should have all eminence in us…\n  \nAs we come into this new season with joy and anticipation\, let’s remember the key scriptures that should be on our hearts this year: Joel 2:12-13\, Joel 2: 25\, Matthew 6:33\, and Revelation 3:20\n  \n \n\n\n\nHERE ARE THE DATES FOR 2026:\n\n21 DAYS OF PRAYER AND FASTING\n\n\n\n\n\n\nJanuary 12th through to February 1st\n\n\n\n\n\n24 HOURS OF PRAYER AND FASTING\n\n\n\n\n\nMarch 20th through to March 21st\n\n\nJune 19th through to June 20th\n\n\nSeptember 18th through September 19th\n\n\nDecember 18th through to December 19th\n\n\n\n\n\n\n\n\n\n           Download QR
URL:http://gladtidingsworshipcenter.ca/event/24hrs-of-prayer-and-fasting-11/
CATEGORIES:Events
ATTACH;FMTTYPE=image/png:https://gladtidingsworshipcenter.ca/wp-content/uploads/2026/01/prayer-and-fasting_woman-praying.png
END:VEVENT
BEGIN:VEVENT
DTSTART;TZID=UTC:20260320T080000
DTEND;TZID=UTC:20260321T080000
DTSTAMP:20260422T224304
CREATED:20260109T083139Z
LAST-MODIFIED:20260112T122753Z
UID:2286-1773993600-1774080000@gladtidingsworshipcenter.ca
SUMMARY:24hrs of Prayer and Fasting
DESCRIPTION:Our walk with Jesus requires us to surrender to Jesus. Fasting and prayer were part of Jesus’ life as He lived in His intimacy with Father. Fasting and prayer restores and strengthens intimacy and passion for God. It also helps us to hear from Him. Most importantly fasting and praying is a way for us to humble ourselves in the sight of God relinquishing our will and obeying His.(Psalm 35:13; Ezra 8:21). King David said\, “I humbled my soul with fasting” (Psalm 69:10).\n  \nAs we look to 2026 in Making Room for More\, let’s remember that this year\, the more we desire\, is Jesus. More intimacy with Him is everything. We invite Him in to get rid of all that is taking up space in our lives\, body\, mind soul and spirit so that we can lean in and let Him cleanse us\, heal us and occupy our lives making Him and the Kingdom our our priority and passion. This is so important as we come to serve Him and be used by Him to advance the Kingdom\, because the Kingdom is Christ and He is who should have all eminence in us…\n  \nAs we come into this new season with joy and anticipation\, let’s remember the key scriptures that should be on our hearts this year: Joel 2:12-13\, Joel 2: 25\, Matthew 6:33\, and Revelation 3:20\n  \n \n\n\n\nHERE ARE THE DATES FOR 2026:\n\n21 DAYS OF PRAYER AND FASTING\n\n\n\n\n\n\nJanuary 12th through to February 1st\n\n\n\n\n\n24 HOURS OF PRAYER AND FASTING\n\n\n\n\n\nMarch 20th through to March 21st\n\n\nJune 19th through to June 20th\n\n\nSeptember 18th through September 19th\n\n\nDecember 18th through to December 19th\n\n\n\n\n\n\n\n\n\n           Download QR
URL:http://gladtidingsworshipcenter.ca/event/24hrs-of-prayer-and-fasting-12/
CATEGORIES:Events
ATTACH;FMTTYPE=image/png:https://gladtidingsworshipcenter.ca/wp-content/uploads/2026/01/prayer-and-fasting_woman-praying.png
END:VEVENT
BEGIN:VEVENT
DTSTART;TZID=UTC:20260424T183000
DTEND;TZID=UTC:20260424T210000
DTSTAMP:20260422T224304
CREATED:20260416T112358Z
LAST-MODIFIED:20260416T112358Z
UID:2330-1777055400-1777064400@gladtidingsworshipcenter.ca
SUMMARY:Praise & Power Night
DESCRIPTION:PRAISE & POWER NIGHT\nWITH PHIL & JAMIE HUTCHINGS \nAPRIL 24\, 2026\nFRIDAY NIGHT\n6:30 PM \n\n           Download QR
URL:http://gladtidingsworshipcenter.ca/event/praise-power-night/
CATEGORIES:Events
ATTACH;FMTTYPE=image/jpeg:https://gladtidingsworshipcenter.ca/wp-content/uploads/2026/04/Praise-Power-Night.jpg
END:VEVENT
BEGIN:VEVENT
DTSTART;TZID=UTC:20260511T190000
DTEND;TZID=UTC:20260511T210000
DTSTAMP:20260422T224304
CREATED:20260416T111327Z
LAST-MODIFIED:20260416T111521Z
UID:2327-1778526000-1778533200@gladtidingsworshipcenter.ca
SUMMARY:Nova Scotia Ablaze
DESCRIPTION:EVANGELIST TOMMIE ZITO AND THE EVANGELISTS \nNOVA SCOTIA ABLAZE\nMAY 11-16 @ 7 PM\nMAY 12-16 @ 10 AM \n\n           Download QR
URL:http://gladtidingsworshipcenter.ca/event/nova-scotia-ablaze/
CATEGORIES:Events
ATTACH;FMTTYPE=image/png:https://gladtidingsworshipcenter.ca/wp-content/uploads/2026/04/Nova-Scotia-Ablaze.png
END:VEVENT
BEGIN:VEVENT
DTSTART;TZID=UTC:20260530T090000
DTEND;TZID=UTC:20260530T170000
DTSTAMP:20260422T224304
CREATED:20240926T150738Z
LAST-MODIFIED:20250929T095143Z
UID:1906-1780131600-1780160400@gladtidingsworshipcenter.ca
SUMMARY:Community Yard Sale
DESCRIPTION:Community Yard Sale\nThank you to everyone who contributes give ways to our Yard Sale. Thank you to those who come and shop… All funds go to GT being able to give back to our community.\nWe are so excited to be hosting another Yard Sale May 30th 2026 at 9AM.\nCan’t wait to see you there …\nCoffee and Treats will be served… \nPlease contact info@gladtidingsworshipcenter.ca with any questions regarding donation drop off or table rentals for your products… \n\n           Download QR
URL:http://gladtidingsworshipcenter.ca/event/community-yard-sale-2026/
CATEGORIES:Events
ATTACH;FMTTYPE=image/jpeg:https://gladtidingsworshipcenter.ca/wp-content/uploads/2024/09/3481.jpg
END:VEVENT
BEGIN:VEVENT
DTSTART;TZID=UTC:20260619T080000
DTEND;TZID=UTC:20260620T080000
DTSTAMP:20260422T224304
CREATED:20260109T083347Z
LAST-MODIFIED:20260112T122945Z
UID:2288-1781856000-1781942400@gladtidingsworshipcenter.ca
SUMMARY:24hrs of Prayer and Fasting
DESCRIPTION:Our walk with Jesus requires us to surrender to Jesus. Fasting and prayer were part of Jesus’ life as He lived in His intimacy with Father. Fasting and prayer restores and strengthens intimacy and passion for God. It also helps us to hear from Him. Most importantly fasting and praying is a way for us to humble ourselves in the sight of God relinquishing our will and obeying His.(Psalm 35:13; Ezra 8:21). King David said\, “I humbled my soul with fasting” (Psalm 69:10).\n  \nAs we look to 2026 in Making Room for More\, let’s remember that this year\, the more we desire\, is Jesus. More intimacy with Him is everything. We invite Him in to get rid of all that is taking up space in our lives\, body\, mind soul and spirit so that we can lean in and let Him cleanse us\, heal us and occupy our lives making Him and the Kingdom our our priority and passion. This is so important as we come to serve Him and be used by Him to advance the Kingdom\, because the Kingdom is Christ and He is who should have all eminence in us…\n  \nAs we come into this new season with joy and anticipation\, let’s remember the key scriptures that should be on our hearts this year: Joel 2:12-13\, Joel 2: 25\, Matthew 6:33\, and Revelation 3:20\n  \n \n\n\n\nHERE ARE THE DATES FOR 2026:\n\n21 DAYS OF PRAYER AND FASTING\n\n\n\n\n\n\nJanuary 12th through to February 1st\n\n\n\n\n\n24 HOURS OF PRAYER AND FASTING\n\n\n\n\n\nMarch 20th through to March 21st\n\n\nJune 19th through to June 20th\n\n\nSeptember 18th through September 19th\n\n\nDecember 18th through to December 19th\n\n\n\n\n\n\n\n\n\n           Download QR
URL:http://gladtidingsworshipcenter.ca/event/24hrs-of-prayer-and-fasting-13/
CATEGORIES:Events
ATTACH;FMTTYPE=image/png:https://gladtidingsworshipcenter.ca/wp-content/uploads/2026/01/prayer-and-fasting_woman-praying.png
END:VEVENT
BEGIN:VEVENT
DTSTART;TZID=UTC:20260918T080000
DTEND;TZID=UTC:20260919T080000
DTSTAMP:20260422T224304
CREATED:20260109T083552Z
LAST-MODIFIED:20260112T122951Z
UID:2291-1789718400-1789804800@gladtidingsworshipcenter.ca
SUMMARY:24hrs of Prayer and Fasting
DESCRIPTION:Our walk with Jesus requires us to surrender to Jesus. Fasting and prayer were part of Jesus’ life as He lived in His intimacy with Father. Fasting and prayer restores and strengthens intimacy and passion for God. It also helps us to hear from Him. Most importantly fasting and praying is a way for us to humble ourselves in the sight of God relinquishing our will and obeying His.(Psalm 35:13; Ezra 8:21). King David said\, “I humbled my soul with fasting” (Psalm 69:10).\n  \nAs we look to 2026 in Making Room for More\, let’s remember that this year\, the more we desire\, is Jesus. More intimacy with Him is everything. We invite Him in to get rid of all that is taking up space in our lives\, body\, mind soul and spirit so that we can lean in and let Him cleanse us\, heal us and occupy our lives making Him and the Kingdom our our priority and passion. This is so important as we come to serve Him and be used by Him to advance the Kingdom\, because the Kingdom is Christ and He is who should have all eminence in us…\n  \nAs we come into this new season with joy and anticipation\, let’s remember the key scriptures that should be on our hearts this year: Joel 2:12-13\, Joel 2: 25\, Matthew 6:33\, and Revelation 3:20\n  \n \n\n\n\nHERE ARE THE DATES FOR 2026:\n\n21 DAYS OF PRAYER AND FASTING\n\n\n\n\n\n\nJanuary 12th through to February 1st\n\n\n\n\n\n24 HOURS OF PRAYER AND FASTING\n\n\n\n\n\nMarch 20th through to March 21st\n\n\nJune 19th through to June 20th\n\n\nSeptember 18th through September 19th\n\n\nDecember 18th through to December 19th\n\n\n\n\n\n\n\n\n\n           Download QR
URL:http://gladtidingsworshipcenter.ca/event/24hrs-of-prayer-and-fasting-14/
CATEGORIES:Events
ATTACH;FMTTYPE=image/png:https://gladtidingsworshipcenter.ca/wp-content/uploads/2026/01/prayer-and-fasting_woman-praying.png
END:VEVENT
BEGIN:VEVENT
DTSTART;TZID=UTC:20261218T080000
DTEND;TZID=UTC:20261219T080000
DTSTAMP:20260422T224304
CREATED:20260109T083704Z
LAST-MODIFIED:20260112T122957Z
UID:2293-1797580800-1797667200@gladtidingsworshipcenter.ca
SUMMARY:24hrs of Prayer and Fasting
DESCRIPTION:Our walk with Jesus requires us to surrender to Jesus. Fasting and prayer were part of Jesus’ life as He lived in His intimacy with Father. Fasting and prayer restores and strengthens intimacy and passion for God. It also helps us to hear from Him. Most importantly fasting and praying is a way for us to humble ourselves in the sight of God relinquishing our will and obeying His.(Psalm 35:13; Ezra 8:21). King David said\, “I humbled my soul with fasting” (Psalm 69:10).\n  \nAs we look to 2026 in Making Room for More\, let’s remember that this year\, the more we desire\, is Jesus. More intimacy with Him is everything. We invite Him in to get rid of all that is taking up space in our lives\, body\, mind soul and spirit so that we can lean in and let Him cleanse us\, heal us and occupy our lives making Him and the Kingdom our our priority and passion. This is so important as we come to serve Him and be used by Him to advance the Kingdom\, because the Kingdom is Christ and He is who should have all eminence in us…\n  \nAs we come into this new season with joy and anticipation\, let’s remember the key scriptures that should be on our hearts this year: Joel 2:12-13\, Joel 2: 25\, Matthew 6:33\, and Revelation 3:20\n  \n \n\n\n\nHERE ARE THE DATES FOR 2026:\n\n21 DAYS OF PRAYER AND FASTING\n\n\n\n\n\n\nJanuary 12th through to February 1st\n\n\n\n\n\n24 HOURS OF PRAYER AND FASTING\n\n\n\n\n\nMarch 20th through to March 21st\n\n\nJune 19th through to June 20th\n\n\nSeptember 18th through September 19th\n\n\nDecember 18th through to December 19th\n\n\n\n\n\n\n\n\n\n           Download QR
URL:http://gladtidingsworshipcenter.ca/event/24hrs-of-prayer-and-fasting-15/
CATEGORIES:Events
ATTACH;FMTTYPE=image/png:https://gladtidingsworshipcenter.ca/wp-content/uploads/2026/01/prayer-and-fasting_woman-praying.png
END:VEVENT
END:VCALENDAR