BEGIN:VCALENDAR
VERSION:2.0
PRODID:-//Glad Tidings Worship Center - ECPv6.7.0//NONSGML v1.0//EN
CALSCALE:GREGORIAN
METHOD:PUBLISH
X-ORIGINAL-URL:https://gladtidingsworshipcenter.ca
X-WR-CALDESC:Events for Glad Tidings Worship Center
REFRESH-INTERVAL;VALUE=DURATION:PT1H
X-Robots-Tag:noindex
X-PUBLISHED-TTL:PT1H
BEGIN:VTIMEZONE
TZID:UTC
BEGIN:STANDARD
TZOFFSETFROM:+0000
TZOFFSETTO:+0000
TZNAME:UTC
DTSTART:20240101T000000
END:STANDARD
END:VTIMEZONE
BEGIN:VEVENT
DTSTART;TZID=UTC:20240427T090000
DTEND;TZID=UTC:20240427T170000
DTSTAMP:20260425T152325
CREATED:20240318T093756Z
LAST-MODIFIED:20240926T145221Z
UID:1818-1714208400-1714237200@gladtidingsworshipcenter.ca
SUMMARY:Community Yard Sale
DESCRIPTION:Community Yard Sale\nKitchen Stuff\, Knick Knacks\, Clothes\, Shoes\, Bikes\, Toys and Baked Goods\nSaturday April 27th @9 AM \nHere is how you can participate\n1. Drop off all well-used articles at Glad Tidings on Wednesdays between 6:30 – 8:30 PM or Thursdays between 10:30 – 1 PM before April 27th. \n2. Rent a table for $25 to sell your own products or good.. \n3. You can make a cash donation to donations@gladtidingsworshipcenter.ca \nAll money raised goes to assisting GT in our endeavours to bless our Community. \n\n           Download QR
URL:http://gladtidingsworshipcenter.ca/event/community-yard-sale/
CATEGORIES:Events
ATTACH;FMTTYPE=image/png:https://gladtidingsworshipcenter.ca/wp-content/uploads/2024/03/Community-Yard-Sale.png
END:VEVENT
BEGIN:VEVENT
DTSTART;TZID=UTC:20240427T100000
DTEND;TZID=UTC:20240428T100000
DTSTAMP:20260425T152325
CREATED:20240129T073508Z
LAST-MODIFIED:20240129T073508Z
UID:1735-1714212000-1714298400@gladtidingsworshipcenter.ca
SUMMARY:24hrs of Prayer and Fasting
DESCRIPTION:Please join us as we pray for the next generation.\nWe are praying for a great harvest for our community of Hants County believing many will come to salvation. \n\n\n\n           Download QR
URL:http://gladtidingsworshipcenter.ca/event/24hrs-of-prayer-and-fasting-4/
CATEGORIES:Events
ATTACH;FMTTYPE=image/png:https://gladtidingsworshipcenter.ca/wp-content/uploads/2023/06/Fasting-and-prayer.png
END:VEVENT
END:VCALENDAR